BEGIN:VCALENDAR
VERSION:2.0
PRODID:-//Reisend Volk zu Augsburg e.V. - ECPv5.3.1.1//NONSGML v1.0//EN
CALSCALE:GREGORIAN
METHOD:PUBLISH
X-WR-CALNAME:Reisend Volk zu Augsburg e.V.
X-ORIGINAL-URL:http://www.reisend-volk.de
X-WR-CALDESC:Veranstaltungen für Reisend Volk zu Augsburg e.V.
BEGIN:VTIMEZONE
TZID:Europe/Berlin
BEGIN:DAYLIGHT
TZOFFSETFROM:+0100
TZOFFSETTO:+0200
TZNAME:CEST
DTSTART:20190331T010000
END:DAYLIGHT
BEGIN:STANDARD
TZOFFSETFROM:+0200
TZOFFSETTO:+0100
TZNAME:CET
DTSTART:20191027T010000
END:STANDARD
END:VTIMEZONE
BEGIN:VEVENT
DTSTART;TZID=Europe/Berlin:20190310T190000
DTEND;TZID=Europe/Berlin:20190310T220000
DTSTAMP:20260421T142014
CREATED:20190313T151508Z
LAST-MODIFIED:20190313T151508Z
UID:371-1552244400-1552255200@www.reisend-volk.de
SUMMARY:Theateraufführung
DESCRIPTION:Unser 2. Auftritt mit einem Theaterstück bearbeitet von Peter Gustav Bartschat
URL:http://www.reisend-volk.de/event/theaterauffuehrung-2/
LOCATION:Gaststätte Guldenschmaus\, Guldenstr. 33\, Königsbrunn\, Bayern\, 86343\, Deutschland
END:VEVENT
END:VCALENDAR