BEGIN:VCALENDAR
VERSION:2.0
PRODID:-//Reisend Volk zu Augsburg e.V. - ECPv5.3.1.1//NONSGML v1.0//EN
CALSCALE:GREGORIAN
METHOD:PUBLISH
X-WR-CALNAME:Reisend Volk zu Augsburg e.V.
X-ORIGINAL-URL:http://www.reisend-volk.de
X-WR-CALDESC:Veranstaltungen für Reisend Volk zu Augsburg e.V.
BEGIN:VTIMEZONE
TZID:Europe/Berlin
BEGIN:DAYLIGHT
TZOFFSETFROM:+0100
TZOFFSETTO:+0200
TZNAME:CEST
DTSTART:20190331T010000
END:DAYLIGHT
BEGIN:STANDARD
TZOFFSETFROM:+0200
TZOFFSETTO:+0100
TZNAME:CET
DTSTART:20191027T010000
END:STANDARD
END:VTIMEZONE
BEGIN:VEVENT
DTSTART;TZID=Europe/Berlin:20191103T170000
DTEND;TZID=Europe/Berlin:20191103T210000
DTSTAMP:20260421T140923
CREATED:20191013T123530Z
LAST-MODIFIED:20191013T123530Z
UID:430-1572800400-1572814800@www.reisend-volk.de
SUMMARY:Ein Abend mit Hans Sachs
DESCRIPTION:Vergnüglicher Theaterabend mit 3 Stücken von Hans Sachs
URL:http://www.reisend-volk.de/event/ein-abend-mit-hans-sachs/
LOCATION:Neuer Hubertushof\, Hubertusplatz 2\, Augsburg\, 86169
END:VEVENT
END:VCALENDAR